BEGIN:VCALENDAR
VERSION:2.0
PRODID:-//KITA MAULWURF - ECPv6.10.0//NONSGML v1.0//EN
CALSCALE:GREGORIAN
METHOD:PUBLISH
X-WR-CALNAME:KITA MAULWURF
X-ORIGINAL-URL:https://kita-maulwurf-berlin.de
X-WR-CALDESC:Veranstaltungen für KITA MAULWURF
REFRESH-INTERVAL;VALUE=DURATION:PT1H
X-Robots-Tag:noindex
X-PUBLISHED-TTL:PT1H
BEGIN:VTIMEZONE
TZID:UTC
BEGIN:STANDARD
TZOFFSETFROM:+0000
TZOFFSETTO:+0000
TZNAME:UTC
DTSTART:20250101T000000
END:STANDARD
END:VTIMEZONE
BEGIN:VEVENT
DTSTART;TZID=UTC:20251104T153000
DTEND;TZID=UTC:20251104T170000
DTSTAMP:20260425T115631
CREATED:20250902T114927Z
LAST-MODIFIED:20250902T114927Z
UID:676-1762270200-1762275600@kita-maulwurf-berlin.de
SUMMARY:Großteam (Kita schließt um 15.30)
DESCRIPTION:
URL:https://kita-maulwurf-berlin.de/event/grossteam-kita-schliesst-um-15-30-2
END:VEVENT
END:VCALENDAR