BEGIN:VCALENDAR
VERSION:2.0
PRODID:-//KITA MAULWURF - ECPv6.10.0//NONSGML v1.0//EN
CALSCALE:GREGORIAN
METHOD:PUBLISH
X-ORIGINAL-URL:https://kita-maulwurf-berlin.de
X-WR-CALDESC:Veranstaltungen für KITA MAULWURF
REFRESH-INTERVAL;VALUE=DURATION:PT1H
X-Robots-Tag:noindex
X-PUBLISHED-TTL:PT1H
BEGIN:VTIMEZONE
TZID:UTC
BEGIN:STANDARD
TZOFFSETFROM:+0000
TZOFFSETTO:+0000
TZNAME:UTC
DTSTART:20250101T000000
END:STANDARD
END:VTIMEZONE
BEGIN:VEVENT
DTSTART;TZID=UTC:20251110T160000
DTEND;TZID=UTC:20251110T173000
DTSTAMP:20260425T115352
CREATED:20250902T114829Z
LAST-MODIFIED:20250902T114829Z
UID:673-1762790400-1762795800@kita-maulwurf-berlin.de
SUMMARY:Laternenfest 16.00-17.30 Uhr
DESCRIPTION:
URL:https://kita-maulwurf-berlin.de/event/laternenfest-16-00-17-30-uhr
END:VEVENT
END:VCALENDAR