BEGIN:VCALENDAR
VERSION:2.0
PRODID:-//KITA MAULWURF - ECPv6.10.0//NONSGML v1.0//EN
CALSCALE:GREGORIAN
METHOD:PUBLISH
X-ORIGINAL-URL:https://kita-maulwurf-berlin.de
X-WR-CALDESC:Veranstaltungen für KITA MAULWURF
REFRESH-INTERVAL;VALUE=DURATION:PT1H
X-Robots-Tag:noindex
X-PUBLISHED-TTL:PT1H
BEGIN:VTIMEZONE
TZID:UTC
BEGIN:STANDARD
TZOFFSETFROM:+0000
TZOFFSETTO:+0000
TZNAME:UTC
DTSTART:20250101T000000
END:STANDARD
END:VTIMEZONE
BEGIN:VEVENT
DTSTART;TZID=UTC:20250910T153000
DTEND;TZID=UTC:20250910T170000
DTSTAMP:20260425T133519
CREATED:20250902T114520Z
LAST-MODIFIED:20250902T114520Z
UID:670-1757518200-1757523600@kita-maulwurf-berlin.de
SUMMARY:Großteam (Kita schließt um 15.30)
DESCRIPTION:
URL:https://kita-maulwurf-berlin.de/event/grossteam-kita-schliesst-um-15-30
END:VEVENT
BEGIN:VEVENT
DTSTART;TZID=UTC:20250922T160000
DTEND;TZID=UTC:20250922T173000
DTSTAMP:20260425T133519
CREATED:20250916T111823Z
LAST-MODIFIED:20250916T111823Z
UID:743-1758556800-1758562200@kita-maulwurf-berlin.de
SUMMARY:Elternabend Sonnenraupen
DESCRIPTION:
URL:https://kita-maulwurf-berlin.de/event/elternabend-sonnenraupen-2
END:VEVENT
BEGIN:VEVENT
DTSTART;TZID=UTC:20250923T160000
DTEND;TZID=UTC:20250923T173000
DTSTAMP:20260425T133519
CREATED:20250916T112250Z
LAST-MODIFIED:20250916T112250Z
UID:753-1758643200-1758648600@kita-maulwurf-berlin.de
SUMMARY:Elternabend Mondraupen
DESCRIPTION:
URL:https://kita-maulwurf-berlin.de/event/elternabend-mondraupen-3
END:VEVENT
BEGIN:VEVENT
DTSTART;TZID=UTC:20250923T163000
DTEND;TZID=UTC:20250923T180000
DTSTAMP:20260425T133519
CREATED:20250916T112148Z
LAST-MODIFIED:20250916T112215Z
UID:750-1758645000-1758650400@kita-maulwurf-berlin.de
SUMMARY:Elternabend Feuerfalter
DESCRIPTION:
URL:https://kita-maulwurf-berlin.de/event/elternabend-mondraupen-2
END:VEVENT
BEGIN:VEVENT
DTSTART;TZID=UTC:20250925T160000
DTEND;TZID=UTC:20250925T173000
DTSTAMP:20260425T133519
CREATED:20250918T084102Z
LAST-MODIFIED:20250918T084102Z
UID:758-1758816000-1758821400@kita-maulwurf-berlin.de
SUMMARY:Elternabend Zipfelfalter
DESCRIPTION:
URL:https://kita-maulwurf-berlin.de/event/elternabend-zipfelfalter
END:VEVENT
BEGIN:VEVENT
DTSTART;TZID=UTC:20250930T090000
DTEND;TZID=UTC:20250930T120000
DTSTAMP:20260425T133519
CREATED:20250902T115336Z
LAST-MODIFIED:20250912T120035Z
UID:681-1759222800-1759233600@kita-maulwurf-berlin.de
SUMMARY:Fotografin (Feuerfalter\,Zitronenfalter)
DESCRIPTION:
URL:https://kita-maulwurf-berlin.de/event/fotografin-schmetterlinge
END:VEVENT
END:VCALENDAR